 
data_sl97 
 
_audit_creation_method            SHELXL-97 
_chemical_name_systematic 
; 
 ? 
; 
_chemical_name_common             ? 
_chemical_melting_point           ? 
_chemical_formula_moiety          ? 
_chemical_formula_sum 
 'C2 H7 I N Nd0' 
_chemical_formula_weight          171.99 
 
loop_ 
 _atom_type_symbol 
 _atom_type_description 
 _atom_type_scat_dispersion_real 
 _atom_type_scat_dispersion_imag 
 _atom_type_scat_source 
 'Nd'  'Nd'  -0.1943   0.0000 
 'International Tables Vol C Tables 4.2.6.8 and 6.1.1.4' 
 'I'  'I'  -0.4742   0.0000 
 'International Tables Vol C Tables 4.2.6.8 and 6.1.1.4' 
 'N'  'N'   0.0061   0.0000 
 'International Tables Vol C Tables 4.2.6.8 and 6.1.1.4' 
 'H'  'H'   0.0000   0.0000 
 'International Tables Vol C Tables 4.2.6.8 and 6.1.1.4' 
 'C'  'C'   0.0033   0.0000 
 'International Tables Vol C Tables 4.2.6.8 and 6.1.1.4' 
 
_symmetry_cell_setting            ? 
_symmetry_space_group_name_H-M    ? 
 
loop_ 
 _symmetry_equiv_pos_as_xyz 
 'x, y, z' 
 'x, -y, z' 
 'x+1/2, y+1/2, z' 
 'x+1/2, -y+1/2, z' 
 '-x, -y, -z' 
 '-x, y, -z' 
 '-x+1/2, -y+1/2, -z' 
 '-x+1/2, y+1/2, -z' 
 
_cell_length_a                    11.004(4) 
_cell_length_b                    9.955(3) 
_cell_length_c                    5.495(2) 
_cell_angle_alpha                 90.00 
_cell_angle_beta                  110.04(4) 
_cell_angle_gamma                 90.00 
_cell_volume                      565.5(4) 
_cell_formula_units_Z             4 
_cell_measurement_temperature     293(2) 
_cell_measurement_reflns_used     ? 
_cell_measurement_theta_min       ? 
_cell_measurement_theta_max       ? 
 
_exptl_crystal_description        ? 
_exptl_crystal_colour             ? 
_exptl_crystal_size_max           ? 
_exptl_crystal_size_mid           ? 
_exptl_crystal_size_min           ? 
_exptl_crystal_density_meas       ? 
_exptl_crystal_density_diffrn     2.020 
_exptl_crystal_density_method     'not measured' 
_exptl_crystal_F_000              316 
_exptl_absorpt_coefficient_mu     5.501 
_exptl_absorpt_correction_type    ? 
_exptl_absorpt_correction_T_min   ? 
_exptl_absorpt_correction_T_max   ? 
_exptl_absorpt_process_details    ? 
 
_exptl_special_details 
; 
 ? 
; 
 
_diffrn_ambient_temperature       293(2) 
_diffrn_radiation_wavelength      0.71073 
_diffrn_radiation_type            MoK\a 
_diffrn_radiation_source          'fine-focus sealed tube' 
_diffrn_radiation_monochromator   graphite 
_diffrn_measurement_device_type   ? 
_diffrn_measurement_method        ? 
_diffrn_detector_area_resol_mean  ? 
_diffrn_standards_number          ? 
_diffrn_standards_interval_count  ? 
_diffrn_standards_interval_time   ? 
_diffrn_standards_decay_%         ? 
_diffrn_reflns_number             3132 
_diffrn_reflns_av_R_equivalents   0.0848 
_diffrn_reflns_av_sigmaI/netI     0.0485 
_diffrn_reflns_limit_h_min        -14 
_diffrn_reflns_limit_h_max        14 
_diffrn_reflns_limit_k_min        -12 
_diffrn_reflns_limit_k_max        12 
_diffrn_reflns_limit_l_min        -7 
_diffrn_reflns_limit_l_max        7 
_diffrn_reflns_theta_min          4.28 
_diffrn_reflns_theta_max          27.42 
_reflns_number_total              672 
_reflns_number_gt                 590 
_reflns_threshold_expression      >2sigma(I) 
 
_computing_data_collection        ? 
_computing_cell_refinement        ? 
_computing_data_reduction         ? 
_computing_structure_solution     'SHELXS-97 (Sheldrick, 1990)' 
_computing_structure_refinement   'SHELXL-97 (Sheldrick, 1997)' 
_computing_molecular_graphics     ? 
_computing_publication_material   ? 
 
_refine_special_details 
; 
 Refinement of F² against ALL reflections.  The weighted R-factor wR and 
 goodness of fit S are based on F², conventional R-factors R are based 
 on F, with F set to zero for negative F². The threshold expression of 
 F² > 2sigma(F²) is used only for calculating R-factors(gt) etc. and is 
 not relevant to the choice of reflections for refinement.  R-factors based 
 on F² are statistically about twice as large as those based on F, and R- 
 factors based on ALL data will be even larger. 
; 
 
_refine_ls_structure_factor_coef  Fsqd  
_refine_ls_matrix_type            full 
_refine_ls_weighting_scheme       calc  
_refine_ls_weighting_details 
 'calc w=1/[σ²(Fo²)+(0.0348P)²+0.0000P] where P=(Fo²+2Fc²)/3' 
_atom_sites_solution_primary      direct 
_atom_sites_solution_secondary    difmap 
_atom_sites_solution_hydrogens    geom 
_refine_ls_hydrogen_treatment     mixed 
_refine_ls_extinction_method      SHELXL 
_refine_ls_extinction_coef        0.0099(17) 
_refine_ls_extinction_expression 
 'Fc^*^=kFc[1+0.001xFc²λ³/sin(2θ)]^-1/4^' 
_refine_ls_number_reflns          672 
_refine_ls_number_parameters      22 
_refine_ls_number_restraints      0 
_refine_ls_R_factor_all           0.0286 
_refine_ls_R_factor_gt            0.0257 
_refine_ls_wR_factor_ref          0.0622 
_refine_ls_wR_factor_gt           0.0617 
_refine_ls_goodness_of_fit_ref    1.055 
_refine_ls_restrained_S_all       1.055 
_refine_ls_shift/su_max           0.000 
_refine_ls_shift/su_mean          0.000 
 
loop_ 
 _atom_site_label 
 _atom_site_type_symbol 
 _atom_site_fract_x 
 _atom_site_fract_y 
 _atom_site_fract_z 
 _atom_site_U_iso_or_equiv 
 _atom_site_adp_type 
 _atom_site_occupancy 
 _atom_site_symmetry_multiplicity 
 _atom_site_calc_flag 
 _atom_site_refinement_flags 
 _atom_site_disorder_assembly 
 _atom_site_disorder_group 
I1 I 0.28256(3) 0.0000 0.04195(6) 0.0597(2) Uani 1 2 d S . . 
N1 N 0.5000 0.2130(5) 0.5000 0.0665(11) Uani 1 2 d S . . 
H1 H 0.5000 0.1266 0.5000 0.080 Uiso 1 2 calc SR . . 
C1 C 0.0684(5) 0.2048(6) 0.3642(9) 0.0739(11) Uani 1 1 d . . . 
H1A H 0.1057 0.2624 0.2686 0.111 Uiso 1 1 calc R . . 
H1B H 0.0083 0.1444 0.2471 0.111 Uiso 1 1 calc R . . 
H1C H 0.1356 0.1542 0.4885 0.111 Uiso 1 1 calc R . . 
 
loop_ 
 _atom_site_aniso_label 
 _atom_site_aniso_U_11 
 _atom_site_aniso_U_22 
 _atom_site_aniso_U_33 
 _atom_site_aniso_U_23 
 _atom_site_aniso_U_13 
 _atom_site_aniso_U_12 
I1 0.0567(3) 0.0541(2) 0.0551(2) 0.000 0.00208(15) 0.000 
N1 0.071(3) 0.043(2) 0.066(3) 0.000 -0.002(2) 0.000 
C1 0.066(2) 0.094(3) 0.061(2) 0.005(2) 0.020(2) -0.006(2) 
 
_geom_special_details 
; 
 All esds (except the esd in the dihedral angle between two l.s. planes) 
 are estimated using the full covariance matrix.  The cell esds are taken 
 into account individually in the estimation of esds in distances, angles 
 and torsion angles; correlations between esds in cell parameters are only 
 used when they are defined by crystal symmetry.  An approximate (isotropic) 
 treatment of cell esds is used for estimating esds involving l.s. planes. 
; 
 
loop_ 
 _geom_bond_atom_site_label_1 
 _geom_bond_atom_site_label_2 
 _geom_bond_distance 
 _geom_bond_site_symmetry_2 
 _geom_bond_publ_flag 
N1 C1 1.476(6) 4 ? 
N1 C1 1.476(5) 7_556 ? 
C1 N1 1.476(5) 7_556 ? 
 
loop_ 
 _geom_angle_atom_site_label_1 
 _geom_angle_atom_site_label_2 
 _geom_angle_atom_site_label_3 
 _geom_angle 
 _geom_angle_site_symmetry_1 
 _geom_angle_site_symmetry_3 
 _geom_angle_publ_flag 
C1 N1 C1 112.6(5) 4 7_556 ? 
 
_diffrn_measured_fraction_theta_max    0.975 
_diffrn_reflns_theta_full              27.42 
_diffrn_measured_fraction_theta_full   0.975 
_refine_diff_density_max    1.044 
_refine_diff_density_min   -0.461 
_refine_diff_density_rms    0.110 
